BEGIN:VCALENDAR
VERSION:2.0
PRODID:-//FST USIM - ECPv4.6.19//NONSGML v1.0//EN
CALSCALE:GREGORIAN
METHOD:PUBLISH
X-WR-CALNAME:FST USIM
X-ORIGINAL-URL:https://fst.usim.edu.my/ms/
X-WR-CALDESC:Events for FST USIM
BEGIN:VEVENT
DTSTART;TZID=Asia/Kuala_Lumpur:20221221T143000
DTEND;TZID=Asia/Kuala_Lumpur:20221221T173000
DTSTAMP:20260420T193938
CREATED:20220523T035401Z
LAST-MODIFIED:20220523T035401Z
UID:9544-1671633000-1671643800@fst.usim.edu.my
SUMMARY:Syarahan Perdana Profesor Dr. Rosalina Abdul Salam
DESCRIPTION:
URL:https://fst.usim.edu.my/ms/kalendar/syarahan-perdana-profesor-dr-rosalina-abdul-salam/
CATEGORIES:Aktiviti,Fakulti
END:VEVENT
END:VCALENDAR