BEGIN:VCALENDAR
VERSION:2.0
PRODID:-//FST USIM - ECPv4.6.19//NONSGML v1.0//EN
CALSCALE:GREGORIAN
METHOD:PUBLISH
X-WR-CALNAME:FST USIM
X-ORIGINAL-URL:https://fst.usim.edu.my/ms/
X-WR-CALDESC:Events for FST USIM
BEGIN:VEVENT
DTSTART;TZID=Asia/Kuala_Lumpur:20220907T080000
DTEND;TZID=Asia/Kuala_Lumpur:20220908T170000
DTSTAMP:20260421T004308
CREATED:20220523T035352Z
LAST-MODIFIED:20220523T035352Z
UID:9543-1662537600-1662656400@fst.usim.edu.my
SUMMARY:Simposium Kebangsaan Matematik Malaysia ke 29 (SKMM 29)
DESCRIPTION:
URL:https://fst.usim.edu.my/ms/kalendar/simposium-kebangsaan-matematik-malaysia-ke-29-skmm-29/
CATEGORIES:Aktiviti,Fakulti
END:VEVENT
END:VCALENDAR